BEGIN:VCALENDAR
VERSION:2.0
PRODID:-//ChamberMaster//Event Calendar 2.0//EN
METHOD:PUBLISH
X-PUBLISHED-TTL:P3D
REFRESH-INTERVAL:P3D
CALSCALE:GREGORIAN
BEGIN:VEVENT
DTSTART;VALUE=DATE:20260501
DTEND;VALUE=DATE:20260504
TRANSP:TRANSPARENT
X-MICROSOFT-CDO-ALLDAYEVENT:TRUE
SUMMARY:Blain's Fest 2026
DESCRIPTION:Blain's Farm & Fleet is hosting Blain's Fest 2026\, a three-day in-store event celebrating everything outdoors with seasonal deals\, giveaways\, and family-friendly activities for all ages. The event features more than $100\,000 in prizes\, including outdoor gear and prize packages\, along with daily giveaways for the first 100 guests each day while supplies last. Activities throughout the weekend include digital games and rewards through the Blain's Rewards app\, a "Be An Original" photo booth experience with a chance to win a gift card\, and hands-on kids workshops where children can create and take home their own projects. Specific activities vary by day\, with interactive experiences and crafts designed to celebrate the start of the spring and outdoor season.
X-ALT-DESC;FMTTYPE=text/html:Blain&rsquo\;s Farm &amp\; Fleet is hosting Blain&rsquo\;s Fest 2026\, a three-day in-store event celebrating everything outdoors with seasonal deals\, giveaways\, and family-friendly activities for all ages. The event features more than $100\,000 in prizes\, including outdoor gear and prize packages\, along with daily giveaways for the first 100 guests each day while supplies last. Activities throughout the weekend include digital games and rewards through the Blain&rsquo\;s Rewards app\, a &ldquo\;Be An Original&rdquo\; photo booth experience with a chance to win a gift card\, and hands-on kids workshops where children can create and take home their own projects. Specific activities vary by day\, with interactive experiences and crafts designed to celebrate the start of the spring and outdoor season.
LOCATION:Blain's Farm & Fleet Rhinelander 1601 E. Timber Dr\, Rhinelander
UID:e.2707.18714
SEQUENCE:3
DTSTAMP:20260423T225814Z
URL:https://business.rhinelanderchamber.com/events/details/blain-s-fest-2026-18714
END:VEVENT

END:VCALENDAR
