BEGIN:VCALENDAR
VERSION:2.0
PRODID:-//ChamberMaster//Event Calendar 2.0//EN
METHOD:PUBLISH
X-PUBLISHED-TTL:P3D
REFRESH-INTERVAL:P3D
CALSCALE:GREGORIAN
BEGIN:VEVENT
DTSTART:20260711T180000Z
DTEND:20260711T200000Z
X-MICROSOFT-CDO-ALLDAYEVENT:FALSE
SUMMARY:Cinderella Musical
DESCRIPTION:The Missoula Children's Theatre presents CINDERELLA\, an original adaptation of the classic fairy tale. A pumpkin coach\, Prince Charming\, a glass slipper and a dream come true are woven together with the help of the Fairy Godmother in this enchanting musical. When Cinderella's stepsisters try to keep Cinderella from attending the ball\, the Fairy Godmother enlists the help of the Mice and the Pumpkins and is able to transform Cinderella just in time for the big event. Also featured in the production are Cleo the Cat\, Fido the Dog\, the Lords and Ladies\, the Town Criers\, the King and the Buskers. Experience the unique twist the Missoula Children's Theatre puts on this classic story.\n\nThis performance is in conjunction with the Youth Summer Theater Program.
X-ALT-DESC;FMTTYPE=text/html:The Missoula Children&#39\;s Theatre presents CINDERELLA\, an original adaptation of the classic fairy tale. A pumpkin coach\, Prince Charming\, a glass slipper and a dream come true are woven together with the help of the Fairy Godmother in this enchanting musical. When Cinderella&#39\;s stepsisters try to keep Cinderella from attending the ball\, the Fairy Godmother enlists the help of the Mice and the Pumpkins and is able to transform Cinderella just in time for the big event. Also featured in the production are Cleo the Cat\, Fido the Dog\, the Lords and Ladies\, the Town Criers\, the King and the Buskers. Experience the unique twist the Missoula Children&#39\;s Theatre puts on this classic story.<br />\nThis performance is in conjunction with the Youth Summer Theater Program.
LOCATION:Nicolet! Live Stage\, Lakeside Center\, Nicolet College 5364 College Dr\, Rhinelander
UID:e.2707.18712
SEQUENCE:3
DTSTAMP:20260423T004858Z
URL:https://business.rhinelanderchamber.com/events/details/cinderella-musical-18712
END:VEVENT

END:VCALENDAR
