BEGIN:VCALENDAR
VERSION:2.0
PRODID:-//ChamberMaster//Event Calendar 2.0//EN
METHOD:PUBLISH
X-PUBLISHED-TTL:P3D
REFRESH-INTERVAL:P3D
CALSCALE:GREGORIAN
BEGIN:VEVENT
DTSTART:20260715T000000Z
DTEND:20260715T020000Z
X-MICROSOFT-CDO-ALLDAYEVENT:FALSE
SUMMARY:CULTURE TALKS: The Science of an Urban Food Forest
DESCRIPTION:Culture Talks are presentations by community members that are free and open to the public. For this talk\, Tom Jerow will offer an overview of Rhinelander's urban forestry program\, a permaculture-inspired garden within a city that mimics the structure a natural forest ecosystem. More information at www.thehilgermann.com/culturetalks
X-ALT-DESC;FMTTYPE=text/html:Culture Talks are presentations by community members that are free and open to the public. For this talk\, Tom Jerow will offer an overview of Rhinelander&rsquo\;s urban forestry program\, a permaculture-inspired garden within a city that mimics the structure a natural forest ecosystem. More information at www.thehilgermann.com/culturetalks
LOCATION:The Hilgermann Center 25 S. Brown St. Rhinelander WI 54501
UID:e.2707.18707
SEQUENCE:3
DTSTAMP:20260423T005830Z
URL:https://business.rhinelanderchamber.com/events/details/culture-talks-the-science-of-an-urban-food-forest-18707
END:VEVENT

END:VCALENDAR
