BEGIN:VCALENDAR
VERSION:2.0
PRODID:-//ChamberMaster//Event Calendar 2.0//EN
METHOD:PUBLISH
X-PUBLISHED-TTL:P3D
REFRESH-INTERVAL:P3D
CALSCALE:GREGORIAN
BEGIN:VEVENT
DTSTART:20260517T180000Z
DTEND:20260517T200000Z
X-MICROSOFT-CDO-ALLDAYEVENT:FALSE
SUMMARY:Drop-In Line Dancing
DESCRIPTION:Join in the fun with Drop-In Line Dancing at the Dome with Wisconsin Country Style Dancers!\n\n\n\nBeginners welcome\; No fee to participate\; Tips welcomed for the instructor
X-ALT-DESC;FMTTYPE=text/html:Join in the fun with Drop-In Line Dancing at the Dome with Wisconsin Country Style Dancers!<br />\n<br />\nBeginners welcome\; No fee to participate\; Tips welcomed for the instructor
LOCATION:Hodag Dome 863 Hodag Dome Dr\, Rhinelander
UID:e.2707.18710
SEQUENCE:3
DTSTAMP:20260421T144145Z
URL:https://business.rhinelanderchamber.com/events/details/drop-in-line-dancing-18710
END:VEVENT

END:VCALENDAR
