BEGIN:VCALENDAR
VERSION:2.0
PRODID:-//ChamberMaster//Event Calendar 2.0//EN
METHOD:PUBLISH
X-PUBLISHED-TTL:P3D
REFRESH-INTERVAL:P3D
CALSCALE:GREGORIAN
BEGIN:VEVENT
DTSTART:20260613T140000Z
DTEND:20260613T200000Z
X-MICROSOFT-CDO-ALLDAYEVENT:FALSE
SUMMARY:Red Knights MC WI Chapter 5 Annual Bike Show and Ride
DESCRIPTION:Join the Red Knights MC WI Chapter 5 for their Annual Bike Show and Ride "Riding Home for Heroes."
X-ALT-DESC;FMTTYPE=text/html:Join the Red Knights MC WI Chapter 5 for their Annual Bike Show and Ride &quot\;Riding Home for Heroes.&quot\;
LOCATION:Anderson St.\, Downtown Rhinelander
UID:e.2707.18711
SEQUENCE:3
DTSTAMP:20260422T231816Z
URL:https://business.rhinelanderchamber.com/events/details/red-knights-mc-wi-chapter-5-annual-bike-show-and-ride-18711
END:VEVENT

END:VCALENDAR
