BEGIN:VCALENDAR
VERSION:2.0
PRODID:-//ChamberMaster//Event Calendar 2.0//EN
METHOD:PUBLISH
X-PUBLISHED-TTL:P3D
REFRESH-INTERVAL:P3D
CALSCALE:GREGORIAN
BEGIN:VEVENT
DTSTART:20260627T140000Z
DTEND:20260627T210000Z
X-MICROSOFT-CDO-ALLDAYEVENT:FALSE
SUMMARY:Tee Off For Alzheimer's - Remembering the Greens
DESCRIPTION:The 3rd annual "Tee-off for Alzheimer's - Remembering the Greens" 18-hole golf scramble is set for June 27. This event is put on by the Kuehn family in honor of loved ones who have passed and those currently battling Alzheimer's. Break out the bell bottoms\, big shades and disco vibes. The theme for this year's event is "Disco Inferno" and golfers will be hitting the course in full 70's style while supporting a powerful cause! The day also includes a variety of amazing raffles and auctions. The 18-Hole scramble will take place on Saturday\, June 27\, at Pinewood Country Club in Harshaw. Check-in begins at 9am with a shotgun start at 10am. The cost is $125/person for $500/team of four.
X-ALT-DESC;FMTTYPE=text/html:The 3rd annual &quot\;Tee-off for Alzheimer&#39\;s - Remembering the Greens&quot\; 18-hole golf scramble is set for June 27. This event is put on by the Kuehn family in honor of loved ones who have passed and those currently battling Alzheimer&#39\;s. Break out the bell bottoms\, big shades and disco vibes. The theme for this year&#39\;s event is &quot\;Disco Inferno&quot\; and golfers will be hitting the course in full 70&#39\;s style while supporting a powerful cause! The day also includes a variety of amazing raffles and auctions. The 18-Hole scramble will take place on Saturday\, June 27\, at Pinewood Country Club in Harshaw. Check-in begins at 9am with a shotgun start at 10am. The cost is $125/person for $500/team of four.
LOCATION:Pinewood Country Club (9000 Pinewood Valley Road\, Harshaw\, WI 54529)
UID:e.2707.18716
SEQUENCE:3
DTSTAMP:20260424T074124Z
URL:https://business.rhinelanderchamber.com/events/details/tee-off-for-alzheimer-s-remembering-the-greens-18716
END:VEVENT

END:VCALENDAR
